BEGIN:VCALENDAR
VERSION:2.0
PRODID:-//ExpressionEngine Easy iCalendar plugin//NONSGML v2.0.1//EN
X-WR-TIMEZONE:America/Chicago
X-WR-CALNAME:Upcoming Auctions
BEGIN:VEVENT
UID:137106
DTSTAMP:20250313T171500
DTSTART:20250313T171500
DTEND:20250429T180000
SUMMARY:Valley Road - 2 Houses / 2 Roads - 8 acres w/ Creek
LOCATION:7365 Valley Road\, Fairview\, TN 37062\, US
DESCRIPTION:2 Houses / 2 Roads / 8+ acres w/ Creek - Great Location
URL:https://www.hudginsauctions.com/auctions/detail/bw137106
SEQUENCE:1
END:VEVENT
END:VCALENDAR